BEGIN:VCALENDAR
VERSION:2.0
PRODID:-//Appreciating, conserving and promoting Somerset&#039;s diverse geology - ECPv6.15.18//NONSGML v1.0//EN
CALSCALE:GREGORIAN
METHOD:PUBLISH
X-WR-CALNAME:Appreciating, conserving and promoting Somerset&#039;s diverse geology
X-ORIGINAL-URL:https://somersetgeology.org.uk
X-WR-CALDESC:Events for Appreciating, conserving and promoting Somerset&#039;s diverse geology
REFRESH-INTERVAL;VALUE=DURATION:PT1H
X-Robots-Tag:noindex
X-PUBLISHED-TTL:PT1H
BEGIN:VTIMEZONE
TZID:Europe/London
BEGIN:DAYLIGHT
TZOFFSETFROM:+0000
TZOFFSETTO:+0100
TZNAME:BST
DTSTART:20250330T010000
END:DAYLIGHT
BEGIN:STANDARD
TZOFFSETFROM:+0100
TZOFFSETTO:+0000
TZNAME:GMT
DTSTART:20251026T010000
END:STANDARD
BEGIN:DAYLIGHT
TZOFFSETFROM:+0000
TZOFFSETTO:+0100
TZNAME:BST
DTSTART:20260329T010000
END:DAYLIGHT
BEGIN:STANDARD
TZOFFSETFROM:+0100
TZOFFSETTO:+0000
TZNAME:GMT
DTSTART:20261025T010000
END:STANDARD
BEGIN:DAYLIGHT
TZOFFSETFROM:+0000
TZOFFSETTO:+0100
TZNAME:BST
DTSTART:20270328T010000
END:DAYLIGHT
BEGIN:STANDARD
TZOFFSETFROM:+0100
TZOFFSETTO:+0000
TZNAME:GMT
DTSTART:20271031T010000
END:STANDARD
END:VTIMEZONE
BEGIN:VEVENT
DTSTART;TZID=Europe/London:20260205T110000
DTEND;TZID=Europe/London:20260205T140000
DTSTAMP:20260425T130254
CREATED:20260106T121745Z
LAST-MODIFIED:20260113T100705Z
UID:6783-1770289200-1770300000@somersetgeology.org.uk
SUMMARY:Local Geological Site Clearance - Shepton Mallet
DESCRIPTION:An existing LGS (there are 232 in Somerset) is being cleared for better exposure with assistance by Somerset Council
URL:https://somersetgeology.org.uk/event/local-geological-site-clearance-shepton-mallet/
END:VEVENT
END:VCALENDAR